BEGIN:VCALENDAR
VERSION:2.0
PRODID:-//Right to Life of Louisville - ECPv6.15.20//NONSGML v1.0//EN
CALSCALE:GREGORIAN
METHOD:PUBLISH
X-WR-CALNAME:Right to Life of Louisville
X-ORIGINAL-URL:https://rtllou.org
X-WR-CALDESC:Events for Right to Life of Louisville
REFRESH-INTERVAL;VALUE=DURATION:PT1H
X-Robots-Tag:noindex
X-PUBLISHED-TTL:PT1H
BEGIN:VTIMEZONE
TZID:UTC
BEGIN:STANDARD
TZOFFSETFROM:+0000
TZOFFSETTO:+0000
TZNAME:UTC
DTSTART:20210101T000000
END:STANDARD
END:VTIMEZONE
BEGIN:VEVENT
DTSTART;TZID=UTC:20221011T190000
DTEND;TZID=UTC:20221011T203000
DTSTAMP:20260423T191145
CREATED:20220808T024601Z
LAST-MODIFIED:20221008T024900Z
UID:16574-1665514800-1665520200@rtllou.org
SUMMARY:2022 General Meeting
DESCRIPTION:Right to Life of Louisville’s annual (general) meeting for members and supporters will be held on Tuesday\, October 11th at 7 PM. A representative from Angels in Disguise will be present to share the good work this organization is doing in our community. Sadly\, 60-90% of children diagnosed with Down syndrome are aborted in the United States. Angels in Disguise promotes Down Syndrome awareness and celebrates the gifts of these incredible individuals! \nBring a friend or come by yourself and enjoy a little socializing before the meeting begins. Light refreshments will be available.
URL:https://rtllou.org/event/2022-general-meeting/
LOCATION:Right to Life of Louisville Office\, 3411 Stony Spring Cir\, Louisville\, KY\, 40220\, United States
CATEGORIES:Training / Educational
ATTACH;FMTTYPE=image/jpeg:https://rtllou.org/wp-content/uploads/2022/10/qtq80-VmqSxa.jpeg
END:VEVENT
END:VCALENDAR