BEGIN:VCALENDAR
VERSION:2.0
PRODID:-//Right to Life of Louisville - ECPv6.15.20//NONSGML v1.0//EN
CALSCALE:GREGORIAN
METHOD:PUBLISH
X-WR-CALNAME:Right to Life of Louisville
X-ORIGINAL-URL:https://rtllou.org
X-WR-CALDESC:Events for Right to Life of Louisville
REFRESH-INTERVAL;VALUE=DURATION:PT1H
X-Robots-Tag:noindex
X-PUBLISHED-TTL:PT1H
BEGIN:VTIMEZONE
TZID:UTC
BEGIN:STANDARD
TZOFFSETFROM:+0000
TZOFFSETTO:+0000
TZNAME:UTC
DTSTART:20240101T000000
END:STANDARD
END:VTIMEZONE
BEGIN:VEVENT
DTSTART;TZID=UTC:20250409T180000
DTEND;TZID=UTC:20250409T210000
DTSTAMP:20260422T015754
CREATED:20241127T152308Z
LAST-MODIFIED:20250207T224008Z
UID:17657-1744221600-1744232400@rtllou.org
SUMMARY:2025 Celebration of Life
DESCRIPTION:Right to Life of Louisville invites you to join us at our 2025 Annual Celebration of Life at the Crowne Plaza! Every year since 1974 Right to Life of Louisville has brought quality\, prolife individuals like Rep. Henry Hyde\, Dr. Alan Keyes\, and Christian recording artist Mark Schultz to the Louisville area. This isn’t just any event\, it’s a wonderful evening of food\, drink\, fellowship\, and awards! \nIsabel Brown is unable to attend due to being pregnant and not able to travel in April.  \nWe are excited to welcome Dr. Christina Francis as our featured speaker! \nDr. Christina Francis is a board-certified OB/GYN who currently works in Fort Wayne\, IN as an OB/GYN Hospitalist. Dr. Francis completed medical school at Indiana University in 2005\nand completed her OB/GYN residency at St. Vincent Hospital in Indianapolis\, Indiana in 2009. She is CEO of the American Association of Pro-Life Obstetricians and Gynecologists\,\nan associate scholar with the Charlotte Lozier Institute\, a board member of Indiana Right to Life\, and a physician member of the Abortion Pill Reversal Network. As a pro-life speaker Dr. Francis offers her medical expertise\, knowledge of bioethics\, and pro-life reasoning both here in the U.S and around the globe. She has always had a passion for human rights\, spending a significant portion of her life in various countries working tirelessly on behalf of women and children. Dr. Francis worked for three years as the only OB/GYN at a mission hospital in rural Kenya\, until returning to the US in 2014 to work on behalf of women and children both in the US and internationally who are often victims of the abortion industry. She has written on issues surrounding women’s health and abortion for publications including the Wall Street Journal\, Newsweek and USA Today. \n  \nClick here for Tickets \nTicket Information: \n$75 / person ($750 / table)\nDoors open at 6 PM\, program begins at 7 PM. The evening will include a financial appeal to support the work of Right to Life of Louisville. \nPurchase tickets now or advertise in our program booklet. For sponsorship information\, please contact Margaret Schay or Anne Yeiser. \nIf you are not available to attend\, perhaps you would like to participate through donating to our Spiritual Adoption Quilt. \n  \n  \n 
URL:https://rtllou.org/event/2025-celebration-of-life/
LOCATION:Crowne Plaza Hotel of Louisville\, 830 Phillips Lane\, Louisville\, KY\, 40209\, United States
CATEGORIES:Advocacy,Fundraising,Training / Educational
ATTACH;FMTTYPE=image/png:https://rtllou.org/wp-content/uploads/2024/11/2025-Celebration-of-Life-Main-1920-×-1266-px-1.png
END:VEVENT
END:VCALENDAR