BEGIN:VCALENDAR
VERSION:2.0
PRODID:-//Right to Life of Louisville - ECPv6.15.20//NONSGML v1.0//EN
CALSCALE:GREGORIAN
METHOD:PUBLISH
X-WR-CALNAME:Right to Life of Louisville
X-ORIGINAL-URL:https://rtllou.org
X-WR-CALDESC:Events for Right to Life of Louisville
REFRESH-INTERVAL;VALUE=DURATION:PT1H
X-Robots-Tag:noindex
X-PUBLISHED-TTL:PT1H
BEGIN:VTIMEZONE
TZID:UTC
BEGIN:STANDARD
TZOFFSETFROM:+0000
TZOFFSETTO:+0000
TZNAME:UTC
DTSTART:20220101T000000
END:STANDARD
END:VTIMEZONE
BEGIN:VEVENT
DTSTART;TZID=UTC:20230616T170000
DTEND;TZID=UTC:20230617T233000
DTSTAMP:20260423T073907
CREATED:20230507T191515Z
LAST-MODIFIED:20230507T191656Z
UID:17163-1686934800-1687044600@rtllou.org
SUMMARY:Summer Fairs & Festivals
DESCRIPTION:It’s festival season in Kentuckiana! Right to Life of Louisville will be out in the community sharing information about the sacredness and wonder of life. From Valley Station to Middletown\, and places in-between\, look for us at area festivals. \nWe will share human development information (kids love our fetal models!)\, distribute prolife candidate information\, and let individuals know the real truth about the ghastly abortion industry. \nIf you are interested in volunteering for an hour or two at an upcoming festival\, please sign-up to volunteer on our website. Note: volunteers are scheduled in pairs and will never be alone.
URL:https://rtllou.org/event/summer-fairs-festivals-2/
LOCATION:KY
CATEGORIES:Advocacy,Training / Educational
ATTACH;FMTTYPE=image/jpeg:https://rtllou.org/wp-content/uploads/2022/05/PXL_20210910_221859032-scaled.jpg
END:VEVENT
END:VCALENDAR